Workbook

Sheet 表1设备
A1: 表1. 设备报价
F2: 单位：人民币（元）
A3: 项目号 | B3: 名称 | C3: 单位 | D3: 数量 | E3: 单价 | F3: 合计 | G3: 备注
A4: 200章 | B4: 监控系统设备
A5: 201 | B5: 闭路电视监视系统
A6: 1 | B6: 激光夜视遥控摄像机 | C6: 台 | D6: 9 | F6: =E6*D6 -> 0 | G6: 含云台、防护罩、解码器、安装支架等
A7: 2 | B7: 激光夜视固定摄像机 | C7: 台 | D7: 5 | F7: =E7*D7 -> 0 | G7: 含防护罩等
A8: 3 | B8: 机箱 | C8: 台 | D8: 9 | F8: =E8*D8 -> 0 | G8: 含电源、接线端子、光终端盒、尾纤、防雷设施
A9: 4 | B9: 摄像机立柱、避雷针装置 | C9: 套 | D9: 9 | F9: =E9*D9 -> 0
A10: 5 | B10: 视频编码节点设备 | C10: 台 | D10: 9 | F10: =E10*D10 -> 0 | G10: 两口
A11: 6 | B11: 视频同轴电缆（SYV-75-5） | C11: m | D11: 210 | F11: =E11*D11 -> 0 | G11: 具体数量按实计量
A12: 7 | B12: 视频控制电缆RVVP-2*1.0mm2 | C12: m | D12: 135 | F12: =E12*D12 -> 0 | G12: 具体数量按实计量
A13: 8 | B13: 六类屏蔽双绞线 | C13: m | D13: 60 | F13: =E13*D13 -> 0 | G13: 具体数量按实计量
A14: 9 | B14: 完成本系统所需的其他材料及工作 | C14: 项 | D14: 1 | F14: =E14*D14 -> 0
A15: 202 | B15: 微波车辆检测器 | F15: =E15*D15 -> 0
A16: 1 | B16: 微波车辆检测器 | C16: 套 | D16: 1 | F16: =E16*D16 -> 0 | G16: 含机箱、防雷设备等
A17: 2 | B17: 立柱及避雷针装置 | C17: 套 | D17: 1 | F17: =E17*D17 -> 0
A18: 3 | B18: 安装附件 | C18: 项 | D18: 1 | F18: =E18*D18 -> 0
A19: 4 | B19: 完成本系统所需的其他材料及工作 | C19: 项 | D19: 1 | F19: =E19*D19 -> 0 | G19: 包括从配电箱至设备之间的供电电缆、光端机到设备之间的传输电缆、接地系统到设备之间的连接线缆等
A20: 203 | B20: 一类站检测器
A21: 1 | B21: 一类站检测器 | C21: 套 | D21: 1 | F21: =E21*D21 -> 0 | G21: 包括基础、立柱或门架、机箱、防雷等相关设备
A22: 2 | B22: 安装附件 | C22: 项 | D22: 1 | F22: =E22*D22 -> 0
A23: 3 | B23: 完成本系统所需的其他材料及工作 | C23: 项 | D23: 1 | F23: =E23*D23 -> 0 | G23: 包括从配电箱至设备之间的供电电缆、光端机到设备之间的传输电缆、接地系统到设备之间的连接线缆等
A24: 204 | B24: 大型可变信息标志
A25: 1 | B25: 显示板（三车道，12m*1m） | C25: 套 | D25: 2 | F25: =E25*D25 -> 0 | G25: 含显示屏、微处理器、驱动器、外壳、控制箱、电缆及分线盒、电源、软件、防雷设备、门架及避雷针装置等
A26: 2 | B26: 安装附件 | C26: 项 | D26: 1 | F26: =E26*D26 -> 0
A27: 3 | B27: 完成本系统所需的其他材料及工作 | C27: 项 | D27: 1 | F27: =E27*D27 -> 0 | G27: 包括从配电箱至设备之间的供电电缆、光端机到设备之间的传输电缆、接地系统到设备之间的连接线缆等
A28: 208 | B28: 数据传输
A29: 1 | B29: 以太网光端机 | C29: 对 | D29: 2 | F29: =E29*D29 -> 0 | G29: 单模、4口
A30: 2 | B30: 完成本系统所需的其他材料及工作 | C30: 项 | D30: 1 | F30: =E30*D30 -> 0
A31: 209 | B31: 外场设备供电
A32: 1 | B32: YJHLV22-1KV-2*6mm2 | C32: m | D32: 1800 | F32: =E32*D32 -> 0 | G32: 具体数量按实计量
A33: 2 | B33: YJHLV22-1KV-3*25+1*16mm2 | C33: m | D33: 2190 | F33: =E33*D33 -> 0 | G33: 具体数量按实计量
A34: 3 | B34: YJHLV22-1KV-3*35+1*25mm2 | C34: m | D34: 6160 | F34: =E34*D34 -> 0 | G34: 具体数量按实计量
A35: 4 | B35: 混凝土 | C35: m3 | D35: 8 | F35: =E35*D35 -> 0 | G35: 具体数量按实计量
A36: 5 | B36: 三相升压变压器（380V/660V,20KVA) | C36: 套 | D36: 1 | F36: =E36*D36 -> 0
A37: 6 | B37: 三进单出降压变压器（660V/220V,2KVA) | C37: 套 | D37: 4 | F37: =E37*D37 -> 0
A38: 7 | B38: 三相降压变电器（660V/380V,15KVA) | C38: 套 | D38: 1 | F38: =E38*D38 -> 0
A39: 8 | B39: 配电箱（室内型） | C39: 套 | D39: 1 | F39: =E39*D39 -> 0
A40: 9 | B40: 配电箱（室外型，含基础及防雷接地） | C40: 套 | D40: 6 | F40: =E40*D40 -> 0
A41: 10 | B41: 30KVA三相交流稳压器 | C41: 台 | D41: 1 | F41: =E41*D41 -> 0
A42: 11 | B42: 电缆上桥和沿线过桥的钢管防护（2*φ75*4.0mm） | C42: m | D42: 900 | F42: =E42*D42 -> 0 | G42: 具体数量按实计量
A43: 12 | B43: 电缆接线盒 | C43: 个 | D43: 27 | F43: =E43*D43 -> 0 | G43: 具体数量按实计量
A44: 13 | B44: 完成本系统所需的其他材料及工作 | C44: 项 | D44: 1 | F44: =E44*D44 -> 0
A45: 210 | B45: 外场设备基础及接地
A46: 1 | B46: 摄像机基础及接地 | C46: 处 | D46: 9 | F46: =E46*D46 -> 0
A47: 2 | B47: 微波车辆检测器基础及接地 | C47: 处 | D47: 1 | F47: =E47*D47 -> 0
A48: 3 | B48: 大型可变信息标志基础及接地 | C48: 对 | D48: 2 | F48: =E48*D48 -> 0
A49: 4 | B49: 配电箱基础及接地 | C49: 处 | D49: 6 | F49: =E49*D49 -> 0
A50: 5 | B50: 完成本系统所需的其他材料及工作 | C50: 项 | D50: 1 | F50: =E50*D50 -> 0
A51: 220 | B51: 滨海新区高速公路监控中心
A52: 1 | B52: 本路段数据和视频的接入和调试 | C52: 项 | D52: 1 | F52: =E52*D52 -> 0
A53: 400章 | B53: 通信系统设备
A54: 402 | B54: 业务、指令电话系统
A55: 1 | B55: 业务电话分机（DTMF话机） | C55: 部 | D55: 2 | F55: =E55*D55 -> 0
A56: 2 | B56: 4路语音光端机 | C56: 对 | D56: 1 | F56: =E56*D56 -> 0
A57: 3 | B57: 系统的联网调试 | C57: 项 | D57: 1 | F57: =E57*D57 -> 0
A58: 404 | B58: 光缆工程 | F58: =E58*D58 -> 0
A59: 1 | B59: 48芯单模通信光缆 | C59: m | D59: 12000 | F59: =E59*D59 -> 0
A60: 2 | B60: 54芯单模监控光缆 | C60: m | D60: 12000 | F60: =E60*D60 -> 0
A61: 3 | B61: 4芯单模光缆 | C61: m | D61: 1000 | F61: =E61*D61 -> 0
A62: 4 | B62: 光接头盒及其安装材料 | C62: 个 | D62: 15 | F62: =E62*D62 -> 0
A63: 5 | B63: 与相邻路段光缆接续工程 | C63: 项 | D63: 1 | F63: =E63*D63 -> 0 | G63: 与西外环高速、海滨大道南段高速光缆熔接
A64: 405 | B64: 电缆工程
A65: 1 | B65: 停车区配线电缆、市话电缆的接续 | C65: 项 | D65: 1 | F65: =E65*D65 -> 0
A66: 2 | B66: 电缆安装材料 | C66: 项 | D66: 1 | F66: =E66*D66 -> 0
A67: 合计 | F67: =SUM(F4:F66) -> 0

Sheet 表2设备
A1: 表2. 设备备件、专用工具和测试设备
G2: 单位：人民币（元）
A3: 项目号 | B3: 名称 | C3: 单位 | D3: 数量 | E3: 单价 | F3: 合计 | G3: 备 注
A4: 200章 | B4: 监控系统备件、专用工具
A5: 1 | B5: 激光夜视固定摄像机 | C5: 套 | D5: 1 | F5: =D5*E5 -> 0
A6: 2 | B6: 激光夜视遥控摄像机 | C6: 套 | D6: 1 | F6: =D6*E5 -> 0
A7: 3 | B7: 以太网光端机 | C7: 对 | D7: 1 | F7: =D7*E6 -> 0
A8: 4 | B8: 视频编码节点设备（2路） | C8: 台 | D8: 1 | F8: =D8*E8 -> 0
A9: 400章 | B9: 通信系统备件、专用工具
A10: 1 | B10: 电力电缆、汇流条夹头、支撑件、熔丝及其他各种易损耗件 | C10: 项 | D10: 1 | F10: =D10*E10 -> 0
A11: 2 | B11: 通用工作包 | C11: 项 | D11: 1 | F11: =D11*E11 -> 0
A12: 合计 | F12: =SUM(F4:F11) -> 0

Sheet 表3安调
A1: 表3. 设备安装及调试等相关费用
F2: 单位：人民币（元）
A3: 项目号 | B3: 名称 | C3: 单位 | D3: 数量 | E3: 安装、调试及其他费用 综合单价 | F3: 安装调试及其他费用合计
A4: 一 | B4: =[1]表1设备!B4 -> 监控系统设备
A5: =[1]表1设备!A5 -> 201 | B5: =[1]表1设备!B5 -> 闭路电视监视系统
A6: =[1]表1设备!A6 -> 1 | B6: =[1]表1设备!B6 -> 激光夜视遥控摄像机 | C6: =[1]表1设备!C6 -> 台 | D6: =[1]表1设备!D6 -> 9 | F6: =E6*D6 -> 0
A7: =[1]表1设备!A7 -> 2 | B7: =[1]表1设备!B7 -> 激光夜视固定摄像机 | C7: =[1]表1设备!C7 -> 台 | D7: =[1]表1设备!D7 -> 5 | F7: =E7*D7 -> 0
A8: =[1]表1设备!A8 -> 3 | B8: =[1]表1设备!B8 -> 机箱 | C8: =[1]表1设备!C8 -> 台 | D8: =[1]表1设备!D8 -> 9 | F8: =E8*D8 -> 0
A9: =[1]表1设备!A9 -> 4 | B9: =[1]表1设备!B9 -> 摄像机立柱、避雷针装置 | C9: =[1]表1设备!C9 -> 套 | D9: =[1]表1设备!D9 -> 9 | F9: =E9*D9 -> 0
A10: =[1]表1设备!A10 -> 5 | B10: =[1]表1设备!B10 -> 视频编码节点设备 | C10: =[1]表1设备!C10 -> 台 | D10: =[1]表1设备!D10 -> 9 | F10: =E10*D10 -> 0
A11: =[1]表1设备!A11 -> 6 | B11: =[1]表1设备!B11 -> 视频同轴电缆（SYV-75-5） | C11: =[1]表1设备!C11 -> m | D11: =[1]表1设备!D11 -> 210 | F11: =E11*D11 -> 0
A12: =[1]表1设备!A12 -> 7 | B12: =[1]表1设备!B12 -> 视频控制电缆RVVP-2*1.0mm2 | C12: =[1]表1设备!C12 -> m | D12: =[1]表1设备!D12 -> 135 | F12: =E12*D12 -> 0
A13: =[1]表1设备!A13 -> 8 | B13: =[1]表1设备!B13 -> 六类屏蔽双绞线 | C13: =[1]表1设备!C13 -> m | D13: =[1]表1设备!D13 -> 60 | F13: =E13*D13 -> 0
A14: =[1]表1设备!A14 -> 9 | B14: =[1]表1设备!B14 -> 完成本系统所需的其他材料及工作 | C14: =[1]表1设备!C14 -> 项 | D14: =[1]表1设备!D14 -> 1 | F14: =E14*D14 -> 0
A15: =[1]表1设备!A15 -> 202 | B15: =[1]表1设备!B15 -> 微波车辆检测器
A16: =[1]表1设备!A16 -> 1 | B16: =[1]表1设备!B16 -> 微波车辆检测器 | C16: =[1]表1设备!C16 -> 套 | D16: =[1]表1设备!D16 -> 1 | F16: =E16*D16 -> 0
A17: =[1]表1设备!A17 -> 2 | B17: =[1]表1设备!B17 -> 立柱及避雷针装置 | C17: =[1]表1设备!C17 -> 套 | D17: =[1]表1设备!D17 -> 1 | F17: =E17*D17 -> 0
A18: =[1]表1设备!A18 -> 3 | B18: =[1]表1设备!B18 -> 安装附件 | C18: =[1]表1设备!C18 -> 项 | D18: =[1]表1设备!D18 -> 1 | F18: =E18*D18 -> 0
A19: =[1]表1设备!A19 -> 4 | B19: =[1]表1设备!B19 -> 完成本系统所需的其他材料及工作 | C19: =[1]表1设备!C19 -> 项 | D19: =[1]表1设备!D19 -> 1 | F19: =E19*D19 -> 0
A20: =[1]表1设备!A20 -> 203 | B20: =[1]表1设备!B20 -> 一类站检测器
A21: =[1]表1设备!A21 -> 1 | B21: =[1]表1设备!B21 -> 一类站检测器 | C21: =[1]表1设备!C21 -> 套 | D21: =[1]表1设备!D21 -> 1 | F21: =E21*D21 -> 0
A22: =[1]表1设备!A22 -> 2 | B22: =[1]表1设备!B22 -> 安装附件 | C22: =[1]表1设备!C22 -> 项 | D22: =[1]表1设备!D22 -> 1 | F22: =E22*D22 -> 0
A23: =[1]表1设备!A23 -> 3 | B23: =[1]表1设备!B23 -> 完成本系统所需的其他材料及工作 | C23: =[1]表1设备!C23 -> 项 | D23: =[1]表1设备!D23 -> 1 | F23: =E23*D23 -> 0
A24: =[1]表1设备!A24 -> 204 | B24: =[1]表1设备!B24 -> 大型可变信息标志
A25: =[1]表1设备!A25 -> 1 | B25: =[1]表1设备!B25 -> 显示板（三车道，12m*1m） | C25: =[1]表1设备!C25 -> 套 | D25: =[1]表1设备!D25 -> 2 | F25: =E25*D25 -> 0
A26: =[1]表1设备!A26 -> 2 | B26: =[1]表1设备!B26 -> 安装附件 | C26: =[1]表1设备!C26 -> 项 | D26: =[1]表1设备!D26 -> 1 | F26: =E26*D26 -> 0
A27: =[1]表1设备!A27 -> 3 | B27: =[1]表1设备!B27 -> 完成本系统所需的其他材料及工作 | C27: =[1]表1设备!C27 -> 项 | D27: =[1]表1设备!D27 -> 1 | F27: =E27*D27 -> 0
A28: =[1]表1设备!A28 -> 208 | B28: =[1]表1设备!B28 -> 数据传输
A29: =[1]表1设备!A29 -> 1 | B29: =[1]表1设备!B29 -> 以太网光端机 | C29: =[1]表1设备!C29 -> 对 | D29: =[1]表1设备!D29 -> 2 | F29: =E29*D29 -> 0
A30: =[1]表1设备!A30 -> 2 | B30: =[1]表1设备!B30 -> 完成本系统所需的其他材料及工作 | C30: =[1]表1设备!C30 -> 项 | D30: =[1]表1设备!D30 -> 1 | F30: =E30*D30 -> 0
A31: =[1]表1设备!A31 -> 209 | B31: =[1]表1设备!B31 -> 外场设备供电
A32: =[1]表1设备!A32 -> 1 | B32: =[1]表1设备!B32 -> YJHLV22-1KV-2*6mm2 | C32: =[1]表1设备!C32 -> m | D32: =[1]表1设备!D32 -> 1800 | F32: =E32*D32 -> 0
A33: =[1]表1设备!A33 -> 2 | B33: =[1]表1设备!B33 -> YJHLV22-1KV-3*25+1*16mm2 | C33: =[1]表1设备!C33 -> m | D33: =[1]表1设备!D33 -> 2190 | F33: =E33*D33 -> 0
A34: =[1]表1设备!A34 -> 3 | B34: =[1]表1设备!B34 -> YJHLV22-1KV-3*35+1*25mm2 | C34: =[1]表1设备!C34 -> m | D34: =[1]表1设备!D34 -> 6160 | F34: =E34*D34 -> 0
A35: =[1]表1设备!A35 -> 4 | B35: =[1]表1设备!B35 -> 混凝土 | C35: =[1]表1设备!C35 -> m3 | D35: =[1]表1设备!D35 -> 8 | F35: =E35*D35 -> 0
A36: =[1]表1设备!A36 -> 5 | B36: =[1]表1设备!B36 -> 三相升压变压器（380V/660V,20KVA) | C36: =[1]表1设备!C36 -> 套 | D36: =[1]表1设备!D36 -> 1 | F36: =E36*D36 -> 0
A37: =[1]表1设备!A37 -> 6 | B37: =[1]表1设备!B37 -> 三进单出降压变压器（660V/220V,2KVA) | C37: =[1]表1设备!C37 -> 套 | D37: =[1]表1设备!D37 -> 4 | F37: =E37*D37 -> 0
A38: =[1]表1设备!A38 -> 7 | B38: =[1]表1设备!B38 -> 三相降压变电器（660V/380V,15KVA) | C38: =[1]表1设备!C38 -> 套 | D38: =[1]表1设备!D38 -> 1 | F38: =E38*D38 -> 0
A39: =[1]表1设备!A39 -> 8 | B39: =[1]表1设备!B39 -> 配电箱（室内型） | C39: =[1]表1设备!C39 -> 套 | D39: =[1]表1设备!D39 -> 1 | F39: =E39*D39 -> 0
A40: =[1]表1设备!A40 -> 9 | B40: =[1]表1设备!B40 -> 配电箱（室外型，含基础及防雷接地） | C40: =[1]表1设备!C40 -> 套 | D40: =[1]表1设备!D40 -> 6 | F40: =E40*D40 -> 0
A41: =[1]表1设备!A41 -> 10 | B41: =[1]表1设备!B41 -> 30KVA三相交流稳压器 | C41: =[1]表1设备!C41 -> 台 | D41: =[1]表1设备!D41 -> 1 | F41: =E41*D41 -> 0
A42: =[1]表1设备!A42 -> 11 | B42: =[1]表1设备!B42 -> 电缆上桥和沿线过桥的钢管防护（2*φ75*4.0mm） | C42: =[1]表1设备!C42 -> m | D42: =[1]表1设备!D42 -> 900 | F42: =E42*D42 -> 0
A43: =[1]表1设备!A43 -> 12 | B43: =[1]表1设备!B43 -> 电缆接线盒 | C43: =[1]表1设备!C43 -> 个 | D43: =[1]表1设备!D43 -> 27 | F43: =E43*D43 -> 0
A44: =[1]表1设备!A44 -> 13 | B44: =[1]表1设备!B44 -> 完成本系统所需的其他材料及工作 | C44: =[1]表1设备!C44 -> 项 | D44: =[1]表1设备!D44 -> 1 | F44: =E44*D44 -> 0
A45: =[1]表1设备!A45 -> 210 | B45: =[1]表1设备!B45 -> 外场设备基础及接地
A46: =[1]表1设备!A46 -> 1 | B46: =[1]表1设备!B46 -> 摄像机基础及接地 | C46: =[1]表1设备!C46 -> 处 | D46: =[1]表1设备!D46 -> 9 | F46: =E46*D46 -> 0
A47: =[1]表1设备!A47 -> 2 | B47: =[1]表1设备!B47 -> 微波车辆检测器基础及接地 | C47: =[1]表1设备!C47 -> 处 | D47: =[1]表1设备!D47 -> 1 | F47: =E47*D47 -> 0
A48: =[1]表1设备!A48 -> 3 | B48: =[1]表1设备!B48 -> 大型可变信息标志基础及接地 | C48: =[1]表1设备!C48 -> 对 | D48: =[1]表1设备!D48 -> 2 | F48: =E48*D48 -> 0
A49: =[1]表1设备!A49 -> 4 | B49: =[1]表1设备!B49 -> 配电箱基础及接地 | C49: =[1]表1设备!C49 -> 处 | D49: =[1]表1设备!D49 -> 6 | F49: =E49*D49 -> 0
A50: =[1]表1设备!A50 -> 5 | B50: =[1]表1设备!B50 -> 完成本系统所需的其他材料及工作 | C50: =[1]表1设备!C50 -> 项 | D50: =[1]表1设备!D50 -> 1 | F50: =E50*D50 -> 0
A51: =[1]表1设备!A51 -> 220 | B51: =[1]表1设备!B51 -> 滨海新区高速公路监控中心
A52: =[1]表1设备!A52 -> 1 | B52: =[1]表1设备!B52 -> 本路段数据和视频的接入和调试 | C52: =[1]表1设备!C52 -> 项 | D52: =[1]表1设备!D52 -> 1 | F52: =E52*D52 -> 0
A53: =[1]表1设备!A53 -> 400章 | B53: =[1]表1设备!B53 -> 通信系统设备
A54: =[1]表1设备!A54 -> 402 | B54: =[1]表1设备!B54 -> 业务、指令电话系统
A55: =[1]表1设备!A55 -> 1 | B55: =[1]表1设备!B55 -> 业务电话分机（DTMF话机） | C55: =[1]表1设备!C55 -> 部 | D55: =[1]表1设备!D55 -> 2 | F55: =E55*D55 -> 0
A56: =[1]表1设备!A56 -> 2 | B56: =[1]表1设备!B56 -> 4路语音光端机 | C56: =[1]表1设备!C56 -> 对 | D56: =[1]表1设备!D56 -> 1 | F56: =E56*D56 -> 0
A57: =[1]表1设备!A57 -> 3 | B57: =[1]表1设备!B57 -> 系统的联网调试 | C57: =[1]表1设备!C57 -> 项 | D57: =[1]表1设备!D57 -> 1 | F57: =E57*D57 -> 0
A58: =[1]表1设备!A58 -> 404 | B58: =[1]表1设备!B58 -> 光缆工程
A59: =[1]表1设备!A59 -> 1 | B59: =[1]表1设备!B59 -> 48芯单模通信光缆 | C59: =[1]表1设备!C59 -> m | D59: =[1]表1设备!D59 -> 12000 | F59: =E59*D59 -> 0
A60: =[1]表1设备!A60 -> 2 | B60: =[1]表1设备!B60 -> 54芯单模监控光缆 | C60: =[1]表1设备!C60 -> m | D60: =[1]表1设备!D60 -> 12000 | F60: =E60*D60 -> 0
A61: =[1]表1设备!A61 -> 3 | B61: =[1]表1设备!B61 -> 4芯单模光缆 | C61: =[1]表1设备!C61 -> m | D61: =[1]表1设备!D61 -> 1000 | F61: =E61*D61 -> 0
A62: =[1]表1设备!A62 -> 4 | B62: =[1]表1设备!B62 -> 光接头盒及其安装材料 | C62: =[1]表1设备!C62 -> 个 | D62: =[1]表1设备!D62 -> 15 | F62: =E62*D62 -> 0
A63: =[1]表1设备!A63 -> 5 | B63: =[1]表1设备!B63 -> 与相邻路段光缆接续工程 | C63: =[1]表1设备!C63 -> 项 | D63: =[1]表1设备!D63 -> 1 | F63: =E63*D63 -> 0
A64: =[1]表1设备!A64 -> 405 | B64: =[1]表1设备!B64 -> 电缆工程
A65: =[1]表1设备!A65 -> 1 | B65: =[1]表1设备!B65 -> 停车区配线电缆、市话电缆的接续 | C65: =[1]表1设备!C65 -> 项 | D65: =[1]表1设备!D65 -> 1 | F65: =E65*D65 -> 0
A66: =[1]表1设备!A66 -> 2 | B66: =[1]表1设备!B66 -> 电缆安装材料 | C66: =[1]表1设备!C66 -> 项 | D66: =[1]表1设备!D66 -> 1 | F66: =E66*D66 -> 0
A67: 合计 | F67: =SUM(F4:F66) -> 0
A68: 注：所有项目均应报价，如果确实不需要安装调试费的则单价和合价按“0”报价。

Sheet 表4项目管理
A1: 表4. 项目管理
G2: 单位：人民币（元）
A3: 项目号 | B3: 项目名称 | C3: 单位 | D3: 工程量 | E3: 单价 | F3: 合价 | G3: 备注
A4: 1 | B4: 设备厂验费 | C4: 项 | D4: 1 | F4: =E4*D4 -> 0
A5: 2 | B5: 竣工文件、施工期间的资料、照片、建设丛书、资料及维护手册费 | C5: 项 | D5: 1 | F5: =E5*D5 -> 0
A6: 3 | B6: 试运行和交/竣工验收 | C6: 项 | D6: 1 | F6: =E6*D6 -> 0
A7: 4 | B7: 技术支持 | C7: 项 | D7: 1 | F7: =E7*D7 -> 0
A8: 5 | B8: 保险费用 | C8: 项 | D8: 1 | E8: =(SUM('[1]表7-汇总'!D5:D7)+SUM('[1]表7-汇总'!D9:D10)+SUM([1]表4项目管理!F4:F7))*0.0025 -> 0 | F8: =E8*D8 -> 0 | G8: 包括工程一切险和第三方责任险、施工人员意外伤害险
A9: 6 | B9: 安全生产费 | C9: 项 | D9: 1 | F9: =E9*D9 -> 0 | G9: 不低于投标上限的1.5%
A10: 合计 | F10: =SUM(F4:F9) -> 0

Sheet 表5培训
A1: 表5. 培训费
G2: 单位：人民币（元）
A3: 项目号 | B3: 项目名称 | C3: 单位 | D3: 工程量 | E3: 单价 | F3: 总价 | G3: 备注
A4: 200章 | B4: 监控系统培训
A5: 1 | B5: 高级管理人员工程师 | C5: 人×天 | D5: 1×14 | F5: =1*14*E5 -> 0 | G5: 含培训教材编制、出版费
A6: 2 | B6: 技术人员 | C6: 人×天 | D6: 2×14 | F6: =2*14*E6 -> 0 | G6: 含培训教材编制、出版费
A7: 3 | B7: 操作人员 | C7: 人×天 | D7: 2×7 | F7: =2*7*E7 -> 0 | G7: 含培训教材编制、出版费
A8: 400章 | B8: 通信系统
A9: 1 | B9: 维护人员培训 | C9: 人×天 | D9: 1×7 | F9: =1*7*E9 -> 0 | G9: 含培训教材编制、出版费
A11: 合计 | F11: =SUM(F5:F10) -> 0

Sheet 表7汇总
A1: 表7. 报价汇总表
A2: 工程名称：津港高速公路工程（西外环-临港）机电工程施工招标
D3: 单位：人民币（元）
A4: 序号 | B4: 报价表 | C4: 项目名称 | D4: 合价
A5: 1 | B5: 表1 | C5: 设备报价 | D5: =[2]表1设备!F67 -> 0
A6: 2 | B6: 表2 | C6: 设备备件、专用工具和测试设备 | D6: =[2]表2设备!F12 -> 0
A7: 3 | B7: 表3 | C7: 设备安装及调试等相关费用 | D7: =[2]表3安调!F67 -> 0
A8: 4 | B8: 表4 | C8: 项目管理 | D8: =[2]表4项目管理!F10 -> 0
A9: 5 | B9: 表5 | C9: 培训费 | D9: =[2]表5培训!F11 -> 0
A10: 6 | C10: 表1～表5合计 | D10: =SUM(D5:D9) -> 0
