Workbook

Sheet 汇总
A1: 项目报价确认单（预算） Project Quotation Confirmation(Budget)
A2: 区域 Region： | B2: 西区 RSD6
A3: 代理公司名称Agency： | B3: 陕西泛亚广告有限责任公司 Shaanxi Fanya Advertising Co. Ltd
A4: 项目名称 Project name： | B4: A-2017年-甘宁青团购会6月17日-24日 A-2017-Group-Buying-Lanzhou/Ningxia/Qinghai Jun. 17th -Jun.24th
A6: A) Sum 汇总 | B6: Description项目描述 | C6: 预算报价
A7: a.场地费、酒店、会议室等 Venue rental | C7: =分项!H8 -> 0
A8: b.第三方制作物、车辆、其他杂费 Third party made products, vehicles, other charges | C8: =分项!H42 -> 20560
A9: c.第三方人员 Third party personnel | C9: =分项!H65 -> 5000
A10: e.AV设备、对讲机、电视租赁 Rent of AV equipments, interphone and TV | C10: =[1]分项!G68 -> 0
A11: f.媒体购买 Media purchasing | C11: =[1]分项!G74 -> 0
A12: g.名人邀请 Celebrity inviting | C12: =[1]分项!G80 -> 0
A13: d.工时、差旅费 Working hours expense and travel expense | C13: =分项!H95 -> 0
A14: 立项单金额：合计 total（不含增值税 without tax） | C14: =SUM(C7:C13) -> 25560
A15: B)增值税金 Value-added tax | B15: 0.06 | C15: =C14*0.06 -> 1533.6
A16: 项目含税金额total amount | C16: =C14+C15 -> 27093.6
A19: 提交方 Submitted party： | B19: 陕西泛亚广告有限责任公司
A20: 签字（盖章）Signature(stamp)：
A21: 日期Date： | B21: =分项!#REF! -> #REF!

Sheet 分项
A1: 驭享周末 极致驾控之旅兰州站活动报价单
B2: 活动地点 | C2: 兰州天逸汽车城
B3: 活动时间 | C3: 43372
A4: a.场地费、
A5: 序号 | B5: 项目名称 Item | C5: 项目描述Description | D5: 数量 Quantity | E5: 单位 Unit | F5: 周期 | G5: 单价 Unit Price | H5: 总价 Total Price
A6: 1 | B6: 场地租赁费 | C6: 天逸汽车城试驾场 | D6: 1 | E6: 天 day | F6: 1 | H6: =G6*D6*F6 -> 0
A7: 2 | B7: 卡丁车体验 | C7: 100人卡丁车体验 | D7: 100 | E7: 人 person | F7: 1 | H7: =G7*D7*F7 -> 0
D8: 合计total： | H8: =SUM(H6:H7) -> 0
B9: 税款 | D9: 0.12 | H9: =H8*D9 -> 0
D10: 总计total： | H10: =H9+H8 -> 0
A11: b.签到区
A12: 1 | B12: 签到背景板 | C12: 木质结构（3.8X2.4X0.5）写真画面 | D12: 10 | E12: 平 ㎡ | F12: 1 | H12: =D12*F12*G12 -> 0
A13: 2 | B13: 签到桌 | C13: 奥迪元素实木签到桌 | D13: 1 | E13: 个 | F13: 1 | H13: 1000
A14: 3 | B14: 签到花 | C14: 奥迪要求签到台花（要求2组，每组2个） | D14: 4 | E14: 个 | F14: 1 | H14: 800
D15: 合计total： | H15: =SUM(H12:H14) -> 1800
B16: 税款 | D16: 0 | H16: =H15*D16 -> 0
D17: 总计total： | H17: =H16+H15 -> 1800
A18: c.展车区
A19: 1 | B19: 车展常用车辆说明牌 | C19: 经销商提供
A20: 2 | B20: 易拉宝 | C20: 铝合金+喷绘，1.0×2.0米，高精写真技术,铝合金架体,国产优质高光相纸，用于经销商分区 | D20: 2 | E20: 个 item | F20: 1 | H20: =D20*F20*G20 -> 0
D21: 合计total： | H21: =SUM(H18:H20) -> 0
B22: 税款 | D22: 0 | H22: =H21*D22 -> 0
D23: 总计total： | H23: =H22+H21 -> 0
A24: d.茶歇区
A25: 1 | B25: 精美茶歇 | C25: 奥迪活动要求茶歇 | D25: 100 | E25: 人 | F25: 1 | H25: 5000
A26: 2 | B26: 茶歇花 | C26: 奥迪要求茶歇台花（要求2组，每组2个）茶歇提供 | D26: 4 | E26: 个 | F26: 1
A27: 3 | B27: 茶歇餐具 | D27: 100 | E27: 套 | F27: 1 | H27: 500
A28: 4 | B28: 茶歇去分区展板 | C28: 区域标识，丽萍展架 | D28: 1 | E28: 个 | F28: 1 | H28: 300
D29: 合计total： | H29: =SUM(H25:H28) -> 5800
B30: 税款 | D30: 0.12 | H30: =H29*D30 -> 696
D31: 总计total： | H31: =H30+H29 -> 6496
A32: e.活动区
A33: 1 | B33: LED大屏 | C33: P3全彩LED大屏（6X3.5） | D33: 21 | E33: 平方米 | F33: 1 | H33: 4620
A34: 2 | B34: 活动区展棚 | C34: 桁架，喷绘包边（10x15) | D34: 150 | E34: 平方米 | F34: 1 | H34: 10000
A35: 3 | B35: 舞台 | C35: 雷亚架全钢木质台面（6X3.6) | D35: 21.5 | E35: 平方米 | F35: 1 | H35: 1080
A36: 4 | B36: 舞台地毯 | C36: 奥迪活动要求地毯灰色圈绒地毯 | D36: 30 | E36: 平方米 | F36: 1 | H36: 1500
A37: 5 | B37: 音响 Audio | C37: 租赁，用于主持人，乐队表演，音响租赁（带2个无线话筒） | D37: 1 | E37: 套 | F37: 1 | H37: =D37*F37*G37 -> 0
A38: 6 | B38: LED帕灯 | C38: 12组暖场染色灯 | D38: 12 | E38: 盏 | F38: 1 | H38: 960
A39: 7 | B39: 方形皮凳 | C39: 活动区客户入座 | D39: 60 | E39: 个 | F39: 1 | H39: 2400
D40: 合计total： | H40: =SUM(H33:H39) -> 20560
...
